Workbook

Sheet Form-Info
A4: Benutzerinfo Abrechnungsformular
A5: Pistole 25/50m Dok. Nr. 61.51.06
A7: A) | B7: Aufbau des Formulars
B8: Das Abrechnungsformular ist eine EXCEL-Tabelle und besteht aus 9 Blättern:
A10: B) | B10: Sport-Schiessen
A11: G-1 | B11: Abrechnung Verbandsgebühren für "Sport- und Auflageschiessen".
A12: SP-2 | B12: Abrechnung Vereinskonkurrenz 25m
A13: SP-3 | B13: Abrechnung Vereinskonkurrenz 50m
A14: SP-4 | B14: Abrechnung Einzel-, Gruppen, Vereinswettkampf
A15: SP-5 | B15: Abrechnung Auszahlungsstich
A16: SP-6 | B16: Abrechnung "Andere Stiche" (z.B. Mouchenpoker usw.)
A18: C) | B18: Auflageschiessen
A19: AS-1 | B19: Abrechnung Einzel-, Gruppen, Vereinswettkampf
A20: AS-2 | B20: Abrechnung Auszahlungsstich
A21: AS-3 | B21: Abrechnung "Andere Stiche" (z.B. Mouchenpoker usw.)
A23: D) | B23: Anleitung:
B24: Bitte mit dem Cursor auf die Felder mit roten Ecken fahren, es sind Hilfstexte hinterlegt.
B25: Sämtliche Blätter sind mit einem Kennwort geschützt.
B26: Blau markierte Felder sind nicht geschützt und können bearbeitet werden.
B27: Grüne Felder enthalten geschützte Formeln und können nicht bearbeitet werden. Die Werte werden automatisch generiert.
A29: E) | B29: Beschreibung der einzelnen Blätter
B30: G-1_Verbandsgebühren
B31: Im ersten Teil sind die Angaben (Bezeichnung/Organisator und Datum) des Schiess-Anlasses einzutragen.
B32: Zusätzlich dient dieses Blatt der Erfassung des Munitionsverbrauchs, Teilnehmerzahlen (Total Teilnehmende und Teilnehmende pro Stich).
B33: Mit diesen Werten kann die Abteilung Finanzen des AGSV die anfallenden Abgaben an die Organisatoren fakturieren.
B34: Dieses Blatt muss für jeden Schiessanlass ausgefüllt werden.
B36: SP-1_Abrechnung Vereinskonkurrenz 25m
B37: Dieses Blatt ist für die Abrechnung des Stichs Vereinskonkurrenz 25m auszufüllen.
B38: 1. die Angaben des Schiessanlasses und die Teilnehmerzahlen werden aus dem Blatt „G1_Verbandsgebühren“ automatisch übernommen
B39: 2. die Anzahl und der Wert gemäss Schiessplan der abgegebenen Kränze/Gaben sind einzutragen
B40: 3. die Anzahl und die Kosten für die abgegebenen Kranzkarten sind einzutragen
B41: aus 2. und 3. wird der Auszahlungsbetrag errechnet
B42: 4. Teilnahmegebühr und Doppelgeld gemäss bewilligtem Schiessplan sind in den vorgesehenen Feldern einzutragen
... B117: Dieses Blatt muss nur ausgefüllt werden wenn ein anderer als die unter SP-1 bis SP-4 genannten Stich angeboten wurde.

Sheet G1_Gebühren
A2: Abrechnungsformular
A3: Schiessanlässe Pistole 25 / 50m | I3: Dok. Nr. 61.51.06
A5: Bezeichnung:
A6: Organisator:
A7: Ort und Datum:
A9: Abrechnung Verbands- und Munitionsabgaben: | J9: 2024
A11: "Disziplin "Sport":
A13: Munition: | H13: Anzahl | I13: Anzahl | J13: Anzahl
D14: Distanz | E14: Scheibe | F14: Probe | G14: Progr. | H14: FP/RF/CF | I14: OP | J14: Total
A15: VereinsK 25m | F15: 0 | G15: 0 | H15: =G15*C24 -> 0 | I15: =G15*C25 -> 0 | J15: =H15+I15 -> 0
A16: VereinsK 50m | F16: 0 | G16: 0 | H16: =G16*(D23+D24) -> 0 | I16: =G16*D25 -> 0 | J16: =H16+I16 -> 0
A17: Einzel-, Gruppen-, Vereinswettkampf | F17: 0 | G17: 0 | H17: =G17*(E23+E24) -> 0 | I17: =G17*E25 -> 0 | J17: =H17+I17 -> 0
A18: Auszahlungsstich | F18: 0 | G18: 0 | H18: =G18*(H23+H24) -> 0 | I18: =G18*H25 -> 0 | J18: =H18+I18 -> 0
A19: Anderer Stich | F19: 0 | G19: 0 | H19: =G19*(I23+I24) -> 0 | I19: =G19*I25 -> 0 | J19: =H19+I19 -> 0
F20: Total Munition | H20: =SUM(H15:H19) -> 0 | I20: =SUM(I15:I19) -> 0 | J20: =SUM(J15:J19) -> 0
A21: Teilnehmer:
A22: Sportgerät | B22: Total Teiln. | C22: VereinsK 25 | D22: VereinsK 50 | E22: Einzel-, Gruppen-, Vereinswettkampf | H22: Auszahler | I22: Anderer Stich
A23: FP | D23: 0 | E23: 0 | H23: 0 | I23: 0
A24: RF/CF | C24: 0 | D24: 0 | E24: 0 | H24: 0 | I24: 0
A25: OP | C25: 0 | D25: 0 | E25: 0 | H25: 0 | I25: 0
A26: Abzügl. U21
A27: Total | B27: =B23+B24+B25-B26 -> 0 | C27: =C24+C25+C26 -> 0 | D27: =D23+D24+D25+D26 -> 0 | E27: =E23+E24+E25+E26 -> 0 | H27: =H23+H24+H25+H26 -> 0 | I27: =I23+I24+I25+I26 -> 0
A29: Disziplin "Auflage":
A31: Munition: | H31: Anzahl
D32: Distanz | E32: Scheibe | F32: Probeschüss | G32: Progr. | H32: RF / CF / FP
A33: Einzel-, Gruppen-, Vereinswettkampf | F33: 0 | G33: 0 | H33: =G33*C41 -> 0
A34: Auszahlungsstich | F34: 0 | G34: 0 | H34: =(F34+G34)*F41 -> 0
A35: Anderer Stich | F35: 0 | G35: 0 | H35: =(F35+G35)*G41 -> 0
F36: Total Munition | H36: =SUM(H33:I35) -> 0
A37: Teilnehmer:
A38: Sportgerät | B38: Total Teiln. | C38: Einzel-, Gruppen-, VereinsWK | F38: Auszahler | G38: Anderer Stich
A39: FP | C39: 0 | F39: 0 | G39: 0
A40: RF/CF | C40: 0 | F40: 0 | G40: 0
A41: Total | B41: =SUM(B39:B40) -> 0 | C41: =SUM(C39:E40) -> 0 | F41: =SUM(F39:F40) -> 0 | G41: =SUM(G39:H40) -> 0
A43: Verbandsgebühren:
A44: Relevant für Verbandsabgaben:
A45: Teilnehmer | C45: Anzahl Teilnehmer | E45: Munition FP/RF/CF
A46: Hauptstich "Sport" | C46: =B27 -> 0 | E46: =H20 -> 0
A47: Hauptstich "Auflage" | C47: =B41 -> 0 | D47: =B41 -> 0 | E47: =H36 -> 0
A48: Teiln. "Sport" u. "Auflage" | C48: 0
A49: Total | C49: =C46+C47-C48 -> 0 | E49: =SUM(E46:F48) -> 0
A51: Pro Teilnehmer an SSV | D51: =C49 -> 0 | E51: 1 | G51: Abgaben an SSV | I51: =D51*E51 -> 0
A52: Pro Teilnehmer an AGSV | D52: =C49 -> 0 | E52: 0.5 | G52: Abgaben an AGSV | I52: =D52*E52 -> 0
A53: An KLS Verbrauch KK Munition | D53: =E49 -> 0 | E53: 0.1 | G53: Ausbildungsbeitrag | I53: =D53*E53 -> 0
G54: Total Gebühren | I54: =I51+I52+I53 -> 0
A55: Den Betrag nicht überweisen. Der AGSV stellt Rechnung
A57: Eintrag erforderlich bzw. möglich | F57: Felder enthalten Formeln und sind schreibgeschützt
A59: Die Richtigkeit bestätigt: | D59: Präsident:
A60: Datum: | D60: Chef Rechnungsbüro:
A61: Sämtliche Unterlagen an Josef Huser, Riedmatt 6, 5623 Boswil | H61: Mail: josef.huser@agsv.ch
A62: Kopie an Bezirksschützenverband erst nach der Genehmigung der Abrechnung durch den RL Abrechnung

Sheet SP-2_VereinsK-25
A3: Bezeichnung: | C3: =G1_Gebühren!C5 -> 0
A4: Organisator: | C4: =G1_Gebühren!C6 -> 0
A5: Ort und Datum: | C5: =G1_Gebühren!C7 -> 0
A7: Disziplin "Sport" | J7: =G1_Gebühren!J9 -> 2024
A9: Abrechnung Vereinskonkurrenz 25m
A11: Teilnehmer:
A13: Sportgerät | C13: VereinsK 25m
A14: RF/CF | C14: =G1_Gebühren!C24 -> 0
A15: OP | C15: =G1_Gebühren!C25 -> 0
A16: Total Teilnehmer | C16: =C14+C15 -> 0
A18: Auszeichnungen:
A20: Art | C20: Anzahl | D20: Wert | E20: Total
A21: Kranz: | C21: 0 | D21: 12 | E21: =C21*D21 -> 0
A22: Naturalgabe | C22: 0 | D22: 12 | E22: =C22*D22 -> 0
A23: Kranzkarte CHF 6.00 | C23: 0 | D23: 6 | E23: =C23*D23 -> 0
A24: Kranzkarte CHF 8.00 | C24: 0 | D24: 8 | E24: =C24*D24 -> 0
A25: Kranzkarte CHF 10.00 | C25: 0 | D25: 10 | E25: =C25*D25 -> 0
A26: Kranzkarte CHF 12.00 | C26: 0 | D26: 12 | E26: =C26*D26 -> 0
A27: Kranzkarte CHF 15.00 | C27: 0 | D27: 15 | E27: =C27*D27 -> 0
A28: Besonderes | C28: 0 | D28: 20 | E28: =C28*D28 -> 0
A29: Total | C29: =SUM(C21:C28) -> 0 | E29: =SUM(E21:E28) -> 0
A31: Auszeichnungsquote in Prozent:
A33: =(C29/C16)*100 -> #DIV/0! | B33: %
A36: Teilnahmekosten lt. Schiessplan | E36: 0
A39: Wert der Auszeichnungen | E39: =E29 -> 0
A40: Zusätzliche Auszahlungen gemäss Rangliste | E40: 0
C41: Total Auszahlungen | E41: =E39+E40 -> 0
A49: Eintrag erforderlich bzw. möglich | E49: Felder enthalten Formeln und sind schreibgeschützt
A51: Die Richtigkeit bestätigt: | D51: Präsident: | F51: =G1_Gebühren!F59 -> 0
A52: Datum: | B52: =G1_Gebühren!B60 -> 0 | D52: Chef Rechnungsbüro: | F52: =G1_Gebühren!F60 -> 0
A54: Sämtliche Unterlagen an Josef Huser, Riedmatt 6, 5623 Boswil | F54: Mail: josef.huser@agsv.ch

Sheet SP-2_VereinsK-50
A3: Bezeichnung: | C3: =G1_Gebühren!C5 -> 0
A4: Organisator: | C4: =G1_Gebühren!C6 -> 0
A5: Ort und Datum: | C5: =G1_Gebühren!C7 -> 0
A7: Disziplin "Sport" | J7: =G1_Gebühren!J9 -> 2024
A9: Abrechnung Vereinskonkurrenz 50m
A11: Teilnehmer:
A13: Sportgerät | C13: VereinsK 50m
A14: FP | C14: =G1_Gebühren!D23 -> 0
A15: RF/CF | C15: =G1_Gebühren!D24 -> 0
A16: OP | C16: =G1_Gebühren!D25 -> 0
A17: Total Teilnehmer | C17: =C14+C15+C16 -> 0
A19: Auszeichnungen:
A21: Art | C21: Anzahl | D21: Wert | E21: Total
A22: Kranz: | C22: 0 | D22: 12 | E22: =C22*D22 -> 0
A23: Naturalgabe | C23: 0 | D23: 12 | E23: =C23*D23 -> 0
A24: Kranzkarte CHF 6.00 | C24: 0 | D24: 6 | E24: =C24*D24 -> 0
A25: Kranzkarte CHF 8.00 | C25: 0 | D25: 8 | E25: =C25*D25 -> 0
A26: Kranzkarte CHF 10.00 | C26: 0 | D26: 10 | E26: =C26*D26 -> 0
A27: Kranzkarte CHF 12.00 | C27: 0 | D27: 12 | E27: =C27*D27 -> 0
A28: Kranzkarte CHF 15.00 | C28: 0 | D28: 15 | E28: =C28*D28 -> 0
A29: Besonderes | C29: 0 | D29: 20 | E29: =C29*D29 -> 0
A30: Total | C30: =SUM(C22:C29) -> 0 | E30: =SUM(E22:E29) -> 0
A32: Auszeichnungsquote in Prozent:
A34: =(C30/C17)*100 -> #DIV/0! | B34: %
A37: Teilnahmekosten lt. Schiessplan | E37: 10
A40: Wert der Auszeichnungen | E40: =E30 -> 0
A41: Zusätzliche Auszahlungen gemäss Rangliste | E41: 0
C42: Total Auszahlungen | E42: =E40+E41 -> 0
A49: Eintrag erforderlich bzw. möglich | E49: Felder enthalten Formeln und sind schreibgeschützt
A51: Die Richtigkeit bestätigt: | D51: Präsident: | F51: =G1_Gebühren!F59 -> 0
A52: Datum: | B52: =G1_Gebühren!B60 -> 0 | D52: Chef Rechnungsbüro: | F52: =G1_Gebühren!F60 -> 0
A54: Sämtliche Unterlagen an Josef Huser, Riedmatt 6, 5623 Boswil | F54: Mail: josef.huser@agsv.ch

Sheet SP-4_Einz-Gru-VerWk
A3: Bezeichnung: | C3: =G1_Gebühren!C5 -> 0
A4: Organisator: | C4: =G1_Gebühren!C6 -> 0
A5: Ort und Datum: | C5: =G1_Gebühren!C7 -> 0
A7: Disziplin "Sport" | J7: =G1_Gebühren!J9 -> 2024
A9: Abrechnung Einzel-, Gruppen-, Vereinswettkampf
A11: Teilnehmer:
A12: Sportgerät | C12: Anzahl | E12: Total Teiln.
A13: FP | C13: =G1_Gebühren!E23 -> 0 | E13: =C13+C14+C15 -> 0
A14: RF/CF | C14: =G1_Gebühren!E24 -> 0
A15: OP | C15: =G1_Gebühren!E25 -> 0
A17: Einzel Auszeichnungen / Auszeichnungsquote:
A18: Art | C18: Anzahl | D18: Wert | E18: Total
A19: Kranzkarte KK6 | C19: 0 | D19: 6 | E19: =C19*D19 -> 0
A20: Kranzkarte KK8 | C20: 0 | D20: 8 | E20: =C20*D20 -> 0
A21: Kranzkarte KK10 | C21: 0 | D21: 10 | E21: =C21*D21 -> 0
A22: Naturalgabe | C22: 0 | D22: 0 | E22: =C22*D22 -> 0
A23: Besonderes | C23: 0 | D23: 0 | E23: =C23*D23 -> 0 | G23: Auszeichnungsquote in %
A24: Total | C24: =SUM(C17:C23) -> 0 | E24: =SUM(E17:E23) -> 0 | G24: =(C24/E13)*100 -> #DIV/0! | J24: %
A26: Spezial-Gaben gemäss Schiessplan und Rangliste:
A27: Gaben | E27: Total
A28: Gaben für die ersten Ränge | E28: 0
A29: Gaben für die Kategorienensieger | E29: 0
A30: Weitere Gaben | E30: 0 | G30: Total Gaben
A31: Total Zusatzgaben | E31: =E28+E29+E30 -> 0 | G31: =E24+E31 -> 0
A34: Abrechnung Gruppenwettkampf:
A36: Teilnahmekosten / Auszahlungen:
A37: Gruppenwettkampf: 60% Pflichtauszahlung der Teilnahmekosten für Gruppen
A39: Anzahl vollständige Gruppen: | E39: 0 | G39: Pflichtauszahlung
A40: Teilnahmekosten Gruppen | E40: 0 | G40: =E41*0.6 -> 0
A41: Total der Gruppendoppel | E41: =E39*E40 -> 0
A43: Auszahlung gemäss Gruppenrangliste | E43: 0
A46: Nachzahlung: | G46: Nachzahlung
A47: Muss belegt werden. Bei Minusbetrag ist keine Nachzahlung erforderlich | G47: =G40-E43 -> 0
A49: Nachweis:
A57: Eintrag erforderlich bzw. möglich | E57: Felder enthalten Formeln und sind schreibgeschützt
A59: Die Richtigkeit bestätigt: | D59: Präsident: | F59: =G1_Gebühren!F59 -> 0
A60: Datum: | B60: =G1_Gebühren!B60 -> 0 | D60: Chef Rechnungsbüro: | F60: =G1_Gebühren!F60 -> 0
A61: Sämtliche Unterlagen an Josef Huser, Riedmatt 6, 5623 Boswil | G61: Mail: josef.huser@agsv.ch

Sheet SP-5_Auszahler
A3: Bezeichnung: | C3: =G1_Gebühren!C5 -> 0
A4: Organisator: | C4: =G1_Gebühren!C6 -> 0
A5: Ort und Datum: | C5: =G1_Gebühren!C7 -> 0
A7: Disziplin "Sport" | J7: =G1_Gebühren!J9 -> 2024
A9: Abrechnung Auszahlungsstich
A12: Teilnehmer:
A13: Sportgerät | C13: Anzahl Teilnehmer | G13: Anzahl Teilnehmer
A14: FP | C14: =G1_Gebühren!H23 -> 0 | G14: =C14+C15+C16 -> 0
A15: RF/CF | C15: =G1_Gebühren!H24 -> 0
A16: OP | C16: =G1_Gebühren!H25 -> 0
A18: Teilnahmekosten:
A19: Teilnahmegebühr pro Teilnehmer gem. Schiessplan | E19: 0
A21: Auszahlungen:
A22: Auszahlungsstich: 60% Pflichtauszahlung der Teilnahmegebühren bzw. Doppel- oder Kontrollgelder
A24: Anzahl Teilnehmer: | E24: =G14 -> 0 | G24: Pflichtauszahlung
A25: Teilnahmegebühr pro Teilnehmer gem. Schiessplan | E25: =E19 -> 0 | G25: =E28 -> 0
A26: Total der Teilnahmegebühren | E26: =E24*E25 -> 0
A28: Pflichtauszahlung | E28: =(E24*E25)*0.6 -> 0
A29: Auszahlungen gemäss der Rangliste | E29: 0
A31: Nachzahlung: | G31: Nachzahlung
A32: Muss belegt werden. Bei Minusbetrag ist keine Nachzahlung erforderlich | G32: =E28-E29 -> 0
A34: Nachweis:
A52: Eintrag erforderlich bzw. möglich | E52: Felder enthalten Formeln und sind schreibgeschützt
A56: Die Richtigkeit bestätigt: | D56: Präsident: | F56: =G1_Gebühren!F59 -> 0
A57: Datum: | B57: =G1_Gebühren!B60 -> 0 | D57: Chef Rechnungsbüro: | F57: =G1_Gebühren!F60 -> 0
A58: Sämtliche Unterlagen an Josef Huser, Riedmatt 6, 5623 Boswil | F58: Mail: josef.huser@agsv.ch

Sheet SP-6_Anderer Stich
A3: Bezeichnung: | C3: =G1_Gebühren!C5 -> 0
A4: Organisator: | C4: =G1_Gebühren!C6 -> 0
A5: Ort und Datum: | C5: =G1_Gebühren!C7 -> 0
A7: Disziplin "Sport" | J7: =G1_Gebühren!J9 -> 2024
A9: Abrechnung "Anderer Stich"
A11: Teilnehmer:
A12: Sportgerät | C12: Anzahl | E12: Total
A13: FP | C13: =G1_Gebühren!I23 -> 0 | E13: =C13+C14+C15 -> 0
A14: RF/CF | C14: =G1_Gebühren!I24 -> 0
A15: OP | C15: =G1_Gebühren!I25 -> 0
A17: Einzel Auszeichnungen / Auszeichnungsquote in %:
A18: Art | C18: Anzahl | D18: Wert | E18: Total
A19: Kranzkarte KK6 | C19: 0 | D19: 6 | E19: =C19*D19 -> 0
A20: Kranzkarte KK8 | C20: 0 | D20: 8 | E20: =C20*D20 -> 0
A21: Kranzkarte KK10 | C21: 0 | D21: 10 | E21: =C21*D21 -> 0
A22: Naturalgabe | C22: 0 | D22: 12 | E22: =C22*D22 -> 0
A23: Besonderes | C23: 0 | D23: 12 | E23: =C23*D23 -> 0 | G23: Auszeichnungsquote in %
A24: Total | C24: =SUM(C17:C23) -> 0 | E24: =SUM(E17:E23) -> 0 | G24: =(C24/E13)*100 -> #DIV/0! | J24: %
A26: Spezial-Gaben gemäss Schiessplan und Rangliste:
A27: Gaben | E27: Total
A28: Gaben für die ersten Ränge | E28: 0
A29: Gaben für die Kategorienensieger | E29: 0
A30: Weitere Gaben | E30: 0 | G30: Total Gaben
A31: Total Zusatzgaben | E31: =E28+E29+E30 -> 0 | G31: =E24+E31 -> 0
A34: Abrechnung Gruppenwettkampf:
A36: Teilnahmekosten / Auszahlungen:
A37: Gruppenwettkampf: 60% Pflichtauszahlung der Teilnahmekosten für Gruppen
A39: Anzahl vollständige Gruppen: | E39: 20 | G39: Pflichtauszahlung
A40: Teilnahmekosten Gruppen | E40: 10 | G40: =E41*0.6 -> 120
A41: Total der Gruppendoppel | E41: =E39*E40 -> 200
A43: Auszahlung gemäss Gruppenrangliste | E43: 0
A46: Nachzahlung: | G46: Nachzahlung
A47: Muss belegt werden. Bei Minusbetrag keine Nachzahlung erforderlich | G47: =G40-E43 -> 120
A49: Nachweis:
A57: Eintrag erforderlich bzw. möglich | E57: Felder enthalten Formeln und sind schreibgeschützt
A59: Die Richtigkeit bestätigt: | D59: Präsident: | F59: =G1_Gebühren!F59 -> 0
A60: Datum: | B60: =G1_Gebühren!B60 -> 0 | D60: Chef Rechnungsbüro: | F60: =G1_Gebühren!F60 -> 0
A61: Sämtliche Unterlagen an Josef Huser, Riedmatt 6, 5623 Boswil | G61: Mail: josef.huser@agsv.ch

Sheet AS-1_Einz-Gru-VerWk
A3: Bezeichnung: | C3: =G1_Gebühren!C5 -> 0
A4: Organisator: | C4: =G1_Gebühren!C6 -> 0
A5: Ort und Datum: | C5: =G1_Gebühren!C7 -> 0
A7: Disziplin "Auflage" | J7: =G1_Gebühren!J9 -> 2024
A9: Abrechnung Einzel-, Gruppen-, Vereinswettkampf
A11: Teilnehmer:
A12: Sportgerät | C12: Anzahl | E12: Total
A13: FP | C13: =G1_Gebühren!C39 -> 0 | E13: =C13+C14 -> 0
A14: RF/CF | C14: =G1_Gebühren!C40 -> 0
A16: Einzel Auszeichnungen / Auszeichnungsquote in %:
A17: Art | C17: Anzahl | D17: Wert | E17: Total
A18: Kranzkarte KK6 | C18: 0 | D18: 6 | E18: =C18*D18 -> 0
A19: Kranzkarte KK8 | C19: 0 | D19: 8 | E19: =C19*D19 -> 0
A20: Kranzkarte KK10 | C20: 0 | D20: 10 | E20: =C20*D20 -> 0
A21: Naturalgabe | C21: 0 | D21: 12 | E21: =C21*D21 -> 0
A22: Besonderes | C22: 0 | D22: 12 | E22: =C22*D22 -> 0 | G22: Auszeichnungsquote in %
A23: Total | C23: =SUM(C16:C22) -> 0 | E23: =SUM(E16:E22) -> 0 | G23: =(C23/E13)*100 -> #DIV/0! | J23: %
A25: Spezial-Gaben gemäss Schiessplan und Rangliste:
A26: Gaben | E26: Total
A27: Gaben für die ersten Ränge | E27: 0
A28: Gaben für die Kategorienensieger | E28: 0
A29: Weitere Gaben | E29: 0 | G29: Total Gaben
A30: Total Zusatzgaben | E30: =E27+E28+E29 -> 0 | G30: =E23+E30 -> 0
A33: Abrechnung Gruppenwettkampf:
A35: Teilnahmekosten / Auszahlungen:
A36: Gruppenwettkampf: 60% Pflichtauszahlung der Teilnahmekosten für Gruppen
A38: Anzahl vollständige Gruppen: | E38: 0 | G38: Pflichtauszahlung
A39: Teilnahmekosten Gruppen | E39: 0 | G39: =E40*0.6 -> 0
A40: Total der Gruppendoppel | E40: =E38*E39 -> 0
A42: Auszahlung gemäss Gruppenrangliste | E42: 0
A45: Nachzahlung: | G45: Nachzahlung
A46: Muss belegt werden. Bei Minusbetrag ist keine Nachzahlung erforderlich | G46: =G39-E42 -> 0
A48: Nachweis:
A56: Eintrag erforderlich bzw. möglich | E56: Felder enthalten Formeln und sind schreibgeschützt
A58: Die Richtigkeit bestätigt: | D58: Präsident: | F58: =G1_Gebühren!F59 -> 0
A59: Datum: | B59: =G1_Gebühren!B60 -> 0 | D59: Chef Rechnungsbüro: | F59: =G1_Gebühren!F60 -> 0
A60: Sämtliche Unterlagen an Josef Huser, Riedmatt 6, 5623 Boswil | G60: Mail: josef.huser@agsv.ch

Sheet AS-2_Auszahler
A3: Bezeichnung: | C3: =G1_Gebühren!C5 -> 0
A4: Organisator: | C4: =G1_Gebühren!C6 -> 0
A5: Ort und Datum: | C5: =G1_Gebühren!C7 -> 0
A7: Disziplin "Auflage" | J7: =G1_Gebühren!J9 -> 2024
A9: Abrechnung Auszahlungsstich
A12: Teilnehmer:
A13: Sportgerät | C13: Teilnehmer | G13: Anzahl Teilnehmer
A14: FP | C14: =G1_Gebühren!F39 -> 0 | G14: =C14+C15 -> 0
A15: RF/CF | C15: =G1_Gebühren!F40 -> 0
A17: Teilnahmekosten:
A18: Teilnahmegebühr pro Teilnehmer gem. Schiessplan | E18: 0
A21: Auszahlungen:
A23: Auszahlungsstich: 60% Pflichtauszahlung der Teilnahmegebühren bzw. Doppel- oder Kontrollgelder
A25: Anzahl Teilnehmer: | E25: =G14 -> 0 | G25: Pflichtauszahlung
A26: Teilnahmegebühr pro Teilnehmer gem. Schiessplan | E26: =E18 -> 0 | G26: =(G14*E18)*0.6 -> 0
A27: Total der Teilnahmegebühren | E27: =E25*E26 -> 0
A29: Pflichtauszahlung | E29: =G26 -> 0
A30: Auszahlungen gemäss der Rangliste | E30: 0
A32: Nachzahlung: | G32: Nachzahlung
A33: Muss belegt werden. Bei Minusbetrag ist keine Nachzahlung erforderlich | G33: =E29-E30 -> 0
A35: Nachweis:
A53: Eintrag erforderlich oder möglich | E53: Felder enthalten Formeln und sind schreibgeschützt
A57: Die Richtigkeit bestätigt: | D57: Präsident: | F57: =G1_Gebühren!F59 -> 0
A58: Datum: | B58: =G1_Gebühren!B60 -> 0 | D58: Chef Rechnungsbüro: | F58: =G1_Gebühren!F60 -> 0
A59: Sämtliche Unterlagen an Josef Huser, Riedmatt 6, 5623 Boswil | G59: Mail: josef.huser@agsv.ch

Sheet AS-3_Anderer Stich
A3: Bezeichnung: | C3: =G1_Gebühren!C5 -> 0
A4: Organisator: | C4: =G1_Gebühren!C6 -> 0
A5: Ort und Datum: | C5: =G1_Gebühren!C7 -> 0
A7: Disziplin "Auflage" | J7: =G1_Gebühren!J9 -> 2024
A9: Abrechnung "Anderer Stich"
A11: Teilnehmer:
A12: Sportgerät | C12: Anzahl | E12: Total
A13: FP | C13: =G1_Gebühren!G39 -> 0 | E13: =C13+C14 -> 0
A14: RF/CF | C14: =G1_Gebühren!G40 -> 0
A16: Einzel Auszeichnungen:
A17: Art | C17: Anzahl | D17: Wert | E17: Total
A18: Kranzkarte KK6 | C18: 0 | D18: 6 | E18: =C18*D18 -> 0
A19: Kranzkarte KK8 | C19: 0 | D19: 8 | E19: =C19*D19 -> 0
A20: Kranzkarte KK10 | C20: 0 | D20: 10 | E20: =C20*D20 -> 0
A21: Naturalgabe | C21: 0 | D21: 12 | E21: =C21*D21 -> 0
A22: Besonderes | C22: 0 | D22: 12 | E22: =C22*D22 -> 0 | G22: Auszeichnungsquote in %
A23: Total | C23: =SUM(C16:C22) -> 0 | E23: =SUM(E16:E22) -> 0 | G23: =(C23/E13)*100 -> #DIV/0! | J23: %
A25: Spezial-Gaben gemäss Schiessplan und Rangliste:
A26: Gaben | E26: Total
A27: Gaben für die ersten Ränge | E27: 0
A28: Gaben für die Kategorienensieger | E28: 0
A29: Weitere Gaben | E29: 0 | G29: Total Gaben
A30: Total Zusatzgaben | E30: =E27+E28+E29 -> 0 | G30: =E23+E30 -> 0
A33: Abrechnung Gruppenwettkampf:
A35: Teilnahmekosten / Auszahlungen:
A36: Gruppenwettkampf: 60% Pflichtauszahlung der Teilnahmekosten für Gruppen
A38: Anzahl vollständige Gruppen: | E38: 0 | G38: Pflichtauszahlung
A39: Teilnahmekosten Gruppen | E39: 0 | G39: =E40*0.6 -> 0
A40: Total der Gruppendoppel | E40: =E38*E39 -> 0
A42: Auszahlung gemäss Gruppenrangliste | E42: 0
A45: Nachzahlung: | G45: Nachzahlung
A46: Muss belegt werden. Bei Minusbetrag ist keine Nachzahlung erforderlich | G46: =G39-E42 -> 0
A48: Nachweis:
A56: Eintrag erforderlich bzw. möglich | E56: Felder enthalten Formeln und sind schreibgeschützt
A58: Die Richtigkeit bestätigt: | D58: Präsident: | F58: ='SP-2_VereinsK-50'!F51 -> 0
A59: Datum: | B59: =G1_Gebühren!B60 -> 0 | D59: Chef Rechnungsbüro: | F59: ='SP-2_VereinsK-50'!F52 -> 0
A60: Sämtliche Unterlagen an Josef Huser, Riedmatt 6, 5623 Boswil | G60: Mail: josef.huser@agsv.ch
